Workbook

Sheet Hundar
A1: Regnr | B1: Namn | C1: Kön | D1: Födelseår | E1: Eget MH | F1: Avelsvärde Socialitet | G1: Avelsvärde Lek | H1: Avelsvärde Nyfikenhet / Orädsla | I1: Avelsvärde Avståndslek | J1: Avelsvärde Jakt | K1: Avelsvärde Aggressivitet | L1: Avelsvärde Skott | M1: Säkerhet Socialitet | N1: Säkerhet Lek | O1: Säkerhet Nyfikenhet / Orädsla | P1: Säkerhet Avståndslek | Q1: Säkerhet Jakt | R1: Säkerhet Aggressivitet | S1: Säkerhet Skott
A2: SE25227/2015 | B2: ACTIVE STAR'S ALIOTH | C2: H | D2: 2015 | E2: Ja | F2: 105.76411 | G2: 106.42091 | H2: 115.84415 | I2: 110.09639 | J2: 115.67358 | K2: 95.298096 | L2: 92.379273 | M2: 0.61537582 | N2: 0.65874609 | O2: 0.61927284 | P2: 0.59002051 | Q2: 0.55525575 | R2: 0.56289634 | S2: 0.50041813
A3: SE25228/2015 | B3: ACTIVE STAR'S ALPHARD | C3: H | D3: 2015 | E3: Ja | F3: 97.654244 | G3: 105.18214 | H3: 112.52868 | I3: 107.45902 | J3: 103.59136 | K3: 99.461985 | L3: 90.360696 | M3: 0.61537582 | N3: 0.65874609 | O3: 0.61927284 | P3: 0.59002051 | Q3: 0.55525575 | R3: 0.56289634 | S3: 0.50041813
A4: SE25229/2015 | B4: ACTIVE STAR'S ANTARES | C4: H | D4: 2015 | E4: Nej | F4: 102.58805 | G4: 107.44166 | H4: 113.23745 | I4: 106.34539 | J4: 105.70038 | K4: 97.877132 | L4: 92.099815 | M4: 0.49614274 | N4: 0.52197147 | O4: 0.49788241 | P4: 0.48177362 | Q4: 0.45877063 | R4: 0.46229586 | S4: 0.41981405
A5: SE25226/2015 | B5: ACTIVE STAR'S ARGO | C5: H | D5: 2015 | E5: Ja | F5: 103.0635 | G5: 108.89843 | H5: 115.01385 | I5: 107.45902 | J5: 113.25715 | K5: 99.461985 | L5: 92.379273 | M5: 0.61537582 | N5: 0.65874609 | O5: 0.61927284 | P5: 0.59002051 | Q5: 0.55525575 | R5: 0.56289634 | S5: 0.50041813
A6: SE25230/2015 | B6: ACTIVE STAR'S ARIES | C6: T | D6: 2015 | E6: Ja | F6: 104.75822 | G6: 115.13783 | H6: 114.5234 | I6: 105.60674 | J6: 96.477833 | K6: 100.33322 | L6: 86.455583 | M6: 0.70116375 | N6: 0.74315057 | O6: 0.70501572 | P6: 0.67572817 | Q6: 0.63970446 | R6: 0.64773579 | S6: 0.58036463
A7: SE52903/2016 | B7: ACTIVE STAR'S BECRUX | C7: H | D7: 2016 | E7: Ja | F7: 100.37337 | G7: 115.63392 | H7: 126.78888 | I7: 115.91524 | J7: 112.82098 | K7: 115.40303 | L7: 88.901288 | M7: 0.62672087 | N7: 0.67315817 | O7: 0.63051261 | P7: 0.60354625 | Q7: 0.56801421 | R7: 0.57296086 | S7: 0.5091129
A8: SE52904/2016 | B8: ACTIVE STAR'S BEID | C8: T | D8: 2016 | E8: Ja | F8: 96.039962 | G8: 104.66 | H8: 110.87551 | I8: 106.41898 | J8: 114.21775 | K8: 111.51715 | L8: 90.615348 | M8: 0.62670276 | N8: 0.67313171 | O8: 0.63049399 | P8: 0.60352664 | Q8: 0.56799557 | R8: 0.57294446 | S8: 0.50909717
A9: SE52907/2016 | B9: ACTIVE STAR'S BELLATRIX | C9: T | D9: 2016 | E9: Ja | F9: 108.03291 | G9: 115.80616 | H9: 119.15813 | I9: 105.64228 | J9: 115.60684 | K9: 111.59741 | L9: 90.074038 | M9: 0.63334955 | N9: 0.67602208 | O9: 0.63761919 | P9: 0.60691078 | Q9: 0.57093065 | R9: 0.57970276 | S9: 0.51260644
A10: SE52906/2016 | B10: ACTIVE STAR'S BETRIA | C10: T | D10: 2016 | E10: Ja | F10: 100.51209 | G10: 116.64338 | H10: 124.3929 | I10: 109.63648 | J10: 130.42487 | K10: 113.03036 | L10: 86.553471 | M10: 0.67904054 | N10: 0.7234248 | O10: 0.68301924 | P10: 0.65505775 | Q10: 0.61888356 | R10: 0.62517758 | S10: 0.55814008
A11: SE52905/2016 | B11: ACTIVE STAR'S BEXA | C11: T | D11: 2016 | E11: Ja | F11: 104.14983 | G11: 117.04762 | H11: 124.14905 | I11: 110.37306 | J11: 117.8424 | K11: 111.51715 | L11: 88.596799 | M11: 0.62670276 | N11: 0.67313171 | O11: 0.63049399 | P11: 0.60352664 | Q11: 0.56799557 | R11: 0.57294446 | S11: 0.50909717
A12: SE36727/2017 | B12: ACTIVE STAR'S CAPELLA | C12: T | D12: 2017 | E12: Ja | F12: 117.151 | G12: 113.41313 | H12: 116.74823 | I12: 124.13546 | J12: 115.07068 | K12: 91.197146 | L12: 95.740314 | M12: 0.66873344 | N12: 0.70277664 | O12: 0.671771 | P12: 0.64830342 | Q12: 0.62026938 | R12: 0.62656358 | S12: 0.57406695
A13: SE36726/2017 | B13: ACTIVE STAR'S CASSIOPEIA | C13: T | D13: 2017 | E13: Ja | F13: 114.45045 | G13: 117.12942 | H13: 121.72436 | I13: 124.13546 | J13: 116.2789 | K13: 91.197146 | L13: 87.66606 | M13: 0.66873344 | N13: 0.70277664 | O13: 0.671771 | P13: 0.64830342 | Q13: 0.62026938 | R13: 0.62656358 | S13: 0.57406695
... A30: SE51236/2015 | B30: ADVOKÁT BEZ HRANIC | C30: H | D30: 2015 | E30: Ja | F30: 104.3434 | G30: 110.15003 | H30: 110.10217 | I30: 97.868628 | J30: 113.20474 | K30: 94.617466 | L30: 93.038841 | M30: 0.51430866 | N30: 0.56724372 | O30: 0.52079186 | P30: 0.4788415 | Q30: 0.43601235 | R30: 0.45028085 | S30: 0.37618194
A31: SE41946/2013 | B31: AIMÉ | C31: T | D31: 2009 | E31: Nej | F31: 106.57632 | G31: 109.89659 | H31: 109.21212 | M31: 0.30893068 | N31: 0.32261479 | O31: 0.30378692 | P31: 0.29878785 | Q31: 0.2815587 | R31: 0.28108738 | S31: 0.2448654
A32: NO39042/11 | B32: ALERTNESS AMENITY | C32: T | D32: 2011 | E32: Ja | F32: 100.37041 | G32: 107.44189 | H32: 88.523045 | I32: 117.91066 | J32: 112.99399 | K32: 86.793215 | L32: 115.87993 | M32: 0.65930767 | N32: 0.69316639 | O32: 0.6611085 | P32: 0.63660768 | Q32: 0.60627268 | R32: 0.61159244 | S32: 0.53747128
A33: NO49553/13 | B33: ALERTNESS BRAINSTORM | C33: H | D33: 2013 | E33: Ja | F33: 99.241533 | G33: 121.81219 | H33: 120.41394 | I33: 109.52439 | J33: 106.70408 | K33: 112.63907 | L33: 95.44707 | M33: 0.61425016 | N33: 0.65978769 | O33: 0.61792129 | P33: 0.58634293 | Q33: 0.54837565 | R33: 0.55695791 | S33: 0.48636946
A34: NO39044/11 | B34: ALERTNESS CLARITY | C34: T | D34: 2011 | E34: Ja | F34: 100.37041 | G34: 107.14393 | H34: 87.787384 | I34: 106.04848 | J34: 109.36929 | K34: 85.065067 | L34: 113.58726 | M34: 0.65930767 | N34: 0.6579097 | O34: 0.63923341 | P34: 0.63660768 | Q34: 0.60627268 | R34: 0.58917486 | S34: 0.46781815
A35: NO54717/19 | B35: ALERTNESS FEEL THE BURN | C35: H | D35: 2019 | E35: Ja | F35: 104.95555 | G35: 106.68424 | H35: 97.682495 | I35: 99.742966 | J35: 103.20205 | K35: 106.28345 | L35: 108.22257 | M35: 0.60497989 | N35: 0.6503147 | O35: 0.60815644 | P35: 0.57744383 | Q35: 0.53906949 | R35: 0.54563861 | S35: 0.46667061
A36: SE59117/2011 | B36: ALERTNESS JOLLITY | C36: T | D36: 2011 | E36: Ja | F36: 106.46867 | G36: 94.563285 | H36: 84.453009 | I36: 108.15503 | J36: 108.62258 | K36: 79.635416 | L36: 119.7517 | M36: 0.72058797 | N36: 0.74461054 | O36: 0.71251706 | P36: 0.68945006 | Q36: 0.66207641 | R36: 0.6588881 | S36: 0.55894677
A37: NO54718/19 | B37: ALERTNESS MIND THE GAP | C37: H | D37: 2019 | E37: Ja | F37: 104.95555 | G37: 109.16176 | H37: 98.51282 | I37: 99.742966 | J37: 103.20205 | K37: 116.69007 | L37: 104.18543 | M37: 0.60497989 | N37: 0.6503147 | O37: 0.60815644 | P37: 0.57744383 | Q37: 0.53906949 | R37: 0.54563861 | S37: 0.46667061
A38: NO39040/11 | B38: ALERTNESS SERENITY | C38: T | D38: 2011 | E38: Ja | F38: 100.37041 | G38: 111.16334 | H38: 88.523045 | I38: 115.27727 | J38: 116.61864 | K38: 84.714369 | L38: 113.58726 | M38: 0.65930767 | N38: 0.6579097 | O38: 0.6611085 | P38: 0.63660768 | Q38: 0.60627268 | R38: 0.61159244 | S38: 0.46781815
A39: NO49556/13 | B39: ALERTNESS SOLAR STORM | C39: T | D39: 2013 | E39: Ja | F39: 101.70918 | G39: 119.98187 | H39: 114.62734 | I39: 104.51437 | J39: 104.10383 | K39: 118.61165 | L39: 97.907173 | M39: 0.64601072 | N39: 0.69155957 | O39: 0.64971865 | P39: 0.61831635 | Q39: 0.57974413 | R39: 0.5881829 | S39: 0.51599387
A40: NO49548/13 | B40: ALERTNESS STORM CHASER | C40: H | D40: 2013 | E40: Nej | F40: 96.009754 | G40: 114.58107 | H40: 112.67789 | I40: 102.13982 | J40: 105.80926 | K40: 115.20758 | L40: 97.725881 | M40: 0.4952496 | N40: 0.52573564 | O40: 0.49697212 | P40: 0.47719679 | Q40: 0.44956277 | R40: 0.4542455 | S40: 0.40156892
A41: NO49557/13 | B41: ALERTNESS STORM OF APPLAUSE | C41: T | D41: 2013 | E41: Ja | F41: 103.00986 | G41: 119.5096 | H41: 117.77411 | I41: 105.29886 | J41: 112.93376 | K41: 114.99586 | L41: 95.142582 | M41: 0.6142829 | N41: 0.65982261 | O41: 0.61795658 | P41: 0.58638103 | Q41: 0.54840999 | R41: 0.55699781 | S41: 0.48640622
A42: NO49554/13 | B42: ALERTNESS STORM PETREL | C42: T | D42: 2013 | E42: Ja | F42: 95.334661 | G42: 116.31592 | H42: 115.90602 | I42: 100.12437 | J42: 103.50898 | K42: 121.52656 | L42: 102.88212 | M42: 0.61463353 | N42: 0.66022893 | O42: 0.61833175 | P42: 0.58675882 | Q42: 0.54877284 | R42: 0.55735098 | S42: 0.48677362
A43: SE50145/2014 | B43: ALERTNESS STORM TROOPER | C43: H | D43: 2013 | E43: Ja | F43: 93.832253 | G43: 113.14089 | H43: 112.95264 | I43: 98.978913 | J43: 107.91234 | K43: 112.63907 | L43: 95.44707 | M43: 0.61425016 | N43: 0.65978769 | O43: 0.61792129 | P43: 0.58634293 | Q43: 0.54837565 | R43: 0.55695791 | S43: 0.48636946
... A49: VDHABRHCOK814 | B49: ANETTE'S EMOTION BRADY | C49: H | D49: 2011 | E49: Nej | F49: 100.38243 | G49: 107.99666 | H49: 107.56594 | I49: 108.41414 | J49: 108.76692 | K49: 106.00207 | L49: 93.286824 | M49: 0.48747253 | N49: 0.52612523 | O49: 0.49097598 | P49: 0.46309777 | Q49: 0.43036941 | R49: 0.43870403 | S49: 0.38095303
A50: NO51984/22 | B50: ANKARU'S AN ACE TO KEEP | C50: T | D50: 2022 | E50: Nej | F50: 105.77678 | G50: 97.554177 | H50: 92.93035 | I50: 100.7235 | J50: 95.551867 | K50: 103.31921 | M50: 0.38623712 | N50: 0.40929012 | O50: 0.38308766 | P50: 0.36898569 | Q50: 0.34561196 | R50: 0.3458396 | S50: 0.28609873
A51: SE47818/2024 | B51: ANKARU'S EVERYDAY HERO | C51: H | D51: 2024 | E51: Nej | F51: 104.75215 | G51: 97.073297 | H51: 99.262172 | I51: 103.07628 | J51: 100.37157 | K51: 99.723306 | L51: 106.43679 | M51: 0.41165957 | N51: 0.43002693 | O51: 0.40874199 | P51: 0.39469379 | Q51: 0.37327214 | R51: 0.37480786 | S51: 0.31668032
A52: SE39242/2024 | B52: ANKARU'S EYE CATCHER | C52: H | D52: 2024 | E52: Nej | F52: 104.75215 | G52: 97.073297 | H52: 99.262172 | I52: 103.07628 | J52: 100.37157 | K52: 99.723306 | L52: 106.43679 | M52: 0.41165957 | N52: 0.43002693 | O52: 0.40874199 | P52: 0.39469379 | Q52: 0.37327214 | R52: 0.37480786 | S52: 0.31668032
A53: SE54314/2012 | B53: ANUSCHKA DAVINJO | C53: T | D53: 2012 | E53: Ja | F53: 103.63223 | G53: 96.395349 | H53: 109.2364 | I53: 100.37562 | J53: 112.08401 | K53: 97.47366 | L53: 95.391402 | M53: 0.51384694 | N53: 0.56907404 | O53: 0.52044037 | P53: 0.4744641 | Q53: 0.42596924 | R53: 0.44250422 | S53: 0.34729035
A54: SE41708/2020 | B54: ARTHUR WEASLEY BIG BANG BOHEMIA | C54: H | D54: 2019 | E54: Ja | F54: 107.10949 | G54: 118.8055 | H54: 115.56418 | I54: 110.12537 | J54: 120.33296 | K54: 98.802379 | L54: 98.14006 | M54: 0.52076808 | N54: 0.57431982 | O54: 0.52709225 | P54: 0.48572621 | Q54: 0.4424936 | R54: 0.45621158 | S54: 0.38117419
A55: S53695/2006 | B55: ASANDZAN AROXINA | C55: T | D55: 2006 | E55: Ja | F55: 103.13821 | G55: 117.20438 | H55: 101.42305 | I55: 107.67778 | J55: 99.131184 | K55: 107.75797 | L55: 94.247364 | M55: 0.54281719 | N55: 0.59537024 | O55: 0.54942016 | P55: 0.50643246 | Q55: 0.46254576 | R55: 0.47769915 | S55: 0.40142888
A56: S66477/2004 | B56: ASTOLAT'S ACER-ACRIS | C56: H | D56: 2004 | E56: Nej | F56: 104.21658 | G56: 102.28074 | H56: 94.110458 | I56: 98.918969 | J56: 103.03107 | K56: 92.378579 | L56: 94.932492 | M56: 0.48165531 | N56: 0.49910118 | O56: 0.46673715 | P56: 0.46159266 | Q56: 0.433326 | R56: 0.43045838 | S56: 0.34741088
A57: S66479/2004 | B57: ASTOLAT'S AKLEJA-ASPERA | C57: T | D57: 2004 | E57: Ja | F57: 101.71771 | G57: 98.391425 | H57: 90.224027 | I57: 97.60315 | J57: 100.51434 | K57: 91.73119 | L57: 92.693975 | M57: 0.60729237 | N57: 0.64793816 | O57: 0.60183128 | P57: 0.57840828 | Q57: 0.53933079 | R57: 0.54284598 | S57: 0.45120726
A58: S66480/2004 | B58: ASTOLAT'S ALTER-ALCEA | C58: T | D58: 2004 | E58: Nej | F58: 104.21658 | G58: 102.28074 | H58: 94.110458 | I58: 98.918969 | J58: 103.03107 | K58: 92.378579 | L58: 94.932492 | M58: 0.48165531 | N58: 0.49910118 | O58: 0.46673715 | P58: 0.46159266 | Q58: 0.433326 | R58: 0.43045838 | S58: 0.34741088
A59: S66478/2004 | B59: ASTOLAT'S ASTER-ATRA | C59: T | D59: 2004 | E59: Nej | F59: 104.21658 | G59: 102.28074 | H59: 94.110458 | I59: 98.918969 | J59: 103.03107 | K59: 92.378579 | L59: 94.932492 | M59: 0.48165531 | N59: 0.49910118 | O59: 0.46673715 | P59: 0.46159266 | Q59: 0.433326 | R59: 0.43045838 | S59: 0.34741088
A60: S64597/2005 | B60: ASTOLAT'S BOMBAX BONANOX | C60: H | D60: 2005 | E60: Nej | F60: 104.21658 | G60: 102.28074 | H60: 94.110458 | I60: 98.918969 | J60: 103.03107 | K60: 92.378579 | L60: 94.932492 | M60: 0.48165531 | N60: 0.49910118 | O60: 0.46673715 | P60: 0.46159266 | Q60: 0.433326 | R60: 0.43045838 | S60: 0.34741088
A61: S64598/2005 | B61: ASTOLAT'S BROCCOLI BOLBITIS | C61: H | D61: 2005 | E61: Ja | F61: 103.51447 | G61: 105.1646 | H61: 95.885242 | I61: 96.735645 | J61: 105.03663 | K61: 93.939319 | L61: 92.18721 | M61: 0.60733048 | N61: 0.64790726 | O61: 0.60183797 | P61: 0.57843221 | Q61: 0.53937098 | R61: 0.54289328 | S61: 0.4511999
...

Sheet Provparning
B2: PROVPARNING MENTALINDEX
B3: Ange hanens regnr | D3: =IFERROR(VLOOKUP($B4,Hundar!$A:$S,3,FALSE),"") | E3: Socialitet | F3: Lek | G3: Nyfikenhet/ Orädsla | H3: Avståndslek | I3: Jakt | J3: Aggressivitet | K3: Skott
D4: Avelsvärde | E4: =IF(D3="H",IF(E16>=E14,E15,"Saknas"),"Saknas") -> Saknas | F4: =IF(D3="H",IF(F16>=F14,F15,"Saknas"),"Saknas") -> Saknas | G4: =IF(D3="H",IF(G16>=G14,G15,"Saknas"),"Saknas") -> Saknas | H4: =IF(D3="H",IF(H16>=H14,H15,"Saknas"),"Saknas") -> Saknas | I4: =IF(D3="H",IF(I16>=I14,I15,"Saknas"),"Saknas") -> Saknas | J4: =IF(D3="H",IF(J16>=J14,J15,"Saknas"),"Saknas") -> Saknas | K4: =IF(D3="H",IF(K16>=K14,K15,"Saknas"),"Saknas") -> Saknas
B5: =IFERROR(IF((VLOOKUP($B4,Hundar!$A:$S,3,FALSE) = "H"),(VLOOKUP($B4,Hundar!$A:$S,2,FALSE)),"Ingen hane hittades med angivet registreringsnr."),"Ingen hane hittades med angivet registreringsnr.") -> Ingen hane hittades med angivet registreringsnr. | D5: Säkerhet | E5: =IF(D3="H",IF(E16>=E14,E16,"Saknas"),"Saknas") -> Saknas | F5: =IF(D3="H",IF(F16>=F14,F16,"Saknas"),"Saknas") -> Saknas | G5: =IF(D3="H",IF(G16>=G14,G16,"Saknas"),"Saknas") -> Saknas | H5: =IF(D3="H",IF(H16>=H14,H16,"Saknas"),"Saknas") -> Saknas | I5: =IF(D3="H",IF(I16>=I14,I16,"Saknas"),"Saknas") -> Saknas | J5: =IF(D3="H",IF(J16>=J14,J16,"Saknas"),"Saknas") -> Saknas | K5: =IF(D3="H",IF(K16>=K14,K16,"Saknas"),"Saknas") -> Saknas
E6: =CONCATENATE("Avelsvärdet visas inte om dess säkerhet underskrider ",L14,".",) -> Avelsvärdet visas inte om dess säkerhet underskrider 0.3.
B7: Ange tikens regnr | D7: =IFERROR(VLOOKUP($B8,Hundar!$A:$S,3,FALSE),"") | E7: Socialitet | F7: Lek | G7: Nyfikenhet/ Orädsla | H7: Avståndslek | I7: Jakt | J7: Aggressivitet | K7: Skott
D8: Avelsvärde | E8: =IF(D7="T",IF(E18>=E14,E17,"Saknas"),"Saknas") -> Saknas | F8: =IF(D7="T",IF(F18>=F14,F17,"Saknas"),"Saknas") -> Saknas | G8: =IF(D7="T",IF(G18>=G14,G17,"Saknas"),"Saknas") -> Saknas | H8: =IF(D7="T",IF(H18>=H14,H17,"Saknas"),"Saknas") -> Saknas | I8: =IF(D7="T",IF(I18>=I14,I17,"Saknas"),"Saknas") -> Saknas | J8: =IF(D7="T",IF(J18>=J14,J17,"Saknas"),"Saknas") -> Saknas | K8: =IF(D7="T",IF(K18>=K14,K17,"Saknas"),"Saknas") -> Saknas
B9: =IFERROR(IF((VLOOKUP($B8,Hundar!$A:$S,3,FALSE) = "T"),(VLOOKUP($B8,Hundar!$A:$S,2,FALSE)),"Ingen tik hittades med angivet registreringsnr."),"Ingen tik hittades med angivet registreringsnr.") -> Ingen tik hittades med angivet registreringsnr. | D9: Säkerhet | E9: =IF(D7="T",IF(E18>=E14,E18,"Saknas"),"Saknas") -> Saknas | F9: =IF(D7="T",IF(F18>=F14,F18,"Saknas"),"Saknas") -> Saknas | G9: =IF(D7="T",IF(G18>=G14,G18,"Saknas"),"Saknas") -> Saknas | H9: =IF(D7="T",IF(H18>=H14,H18,"Saknas"),"Saknas") -> Saknas | I9: =IF(D7="T",IF(I18>=I14,I18,"Saknas"),"Saknas") -> Saknas | J9: =IF(D7="T",IF(J18>=J14,J18,"Saknas"),"Saknas") -> Saknas | K9: =IF(D7="T",IF(K18>=K14,K18,"Saknas"),"Saknas") -> Saknas
E10: =CONCATENATE("Avelsvärdet visas inte om dess säkerhet underskrider ",L14,".",) -> Avelsvärdet visas inte om dess säkerhet underskrider 0.3.
D11: Preliminärt kullindex | E11: Socialitet | F11: Lek | G11: Nyfikenhet/ Orädsla | H11: Avståndslek | I11: Jakt | J11: Aggressivitet | K11: Skott
D12: Avelsvärde | E12: =IFERROR((E4+E8)/2,"Saknas") -> Saknas | F12: =IFERROR((F4+F8)/2,"Saknas") -> Saknas | G12: =IFERROR((G4+G8)/2,"Saknas") -> Saknas | H12: =IFERROR((H4+H8)/2,"Saknas") -> Saknas | I12: =IFERROR((I4+I8)/2,"Saknas") -> Saknas | J12: =IFERROR((J4+J8)/2,"Saknas") -> Saknas | K12: =IFERROR((K4+K8)/2,"Saknas") -> Saknas
E13: =CONCATENATE("Preliminärt kullindex beräknas inte om avelsvärdets säkerhet underskrider ",L14) -> Preliminärt kullindex beräknas inte om avelsvärdets säkerhet underskrider 0.3
D14: Gränsvärde | E14: 0.299 | F14: 0.299 | G14: 0.299 | H14: 0.299 | I14: 0.299 | J14: 0.299 | K14: 0.299 | L14: 0.3
D15: Hane avelsvärde | E15: =IFERROR(VLOOKUP($B4,Hundar!$A:$S,6,FALSE),"Saknas") -> Saknas | F15: =IFERROR(VLOOKUP($B4,Hundar!$A:$S,7,FALSE),"Saknas") -> Saknas | G15: =IFERROR(VLOOKUP($B4,Hundar!$A:$S,8,FALSE),"Saknas") -> Saknas | H15: =IFERROR(VLOOKUP($B4,Hundar!$A:$S,9,FALSE),"Saknas") -> Saknas | I15: =IFERROR(VLOOKUP($B4,Hundar!$A:$S,10,FALSE),"Saknas") -> Saknas | J15: =IFERROR(VLOOKUP($B4,Hundar!$A:$S,11,FALSE),"Saknas") -> Saknas | K15: =IFERROR(VLOOKUP($B4,Hundar!$A:$S,12,FALSE),"Saknas") -> Saknas
D16: Hane säkerhet | E16: =IFERROR(VLOOKUP($B4,Hundar!$A:$S,13,FALSE),"Saknas") -> Saknas | F16: =IFERROR(VLOOKUP($B4,Hundar!$A:$S,14,FALSE),"Saknas") -> Saknas | G16: =IFERROR(VLOOKUP($B4,Hundar!$A:$S,15,FALSE),"Saknas") -> Saknas | H16: =IFERROR(VLOOKUP($B4,Hundar!$A:$S,16,FALSE),"Saknas") -> Saknas | I16: =IFERROR(VLOOKUP($B4,Hundar!$A:$S,17,FALSE),"Saknas") -> Saknas | J16: =IFERROR(VLOOKUP($B4,Hundar!$A:$S,18,FALSE),"Saknas") -> Saknas | K16: =IFERROR(VLOOKUP($B4,Hundar!$A:$S,19,FALSE),"Saknas") -> Saknas
D17: Tik avelsvärde | E17: =IFERROR(VLOOKUP($B8,Hundar!$A:$S,6,FALSE),"Saknas") -> Saknas | F17: =IFERROR(VLOOKUP($B8,Hundar!$A:$S,7,FALSE),"Saknas") -> Saknas | G17: =IFERROR(VLOOKUP($B8,Hundar!$A:$S,8,FALSE),"Saknas") -> Saknas | H17: =IFERROR(VLOOKUP($B8,Hundar!$A:$S,9,FALSE),"Saknas") -> Saknas | I17: =IFERROR(VLOOKUP($B8,Hundar!$A:$S,10,FALSE),"Saknas") -> Saknas | J17: =IFERROR(VLOOKUP($B8,Hundar!$A:$S,11,FALSE),"Saknas") -> Saknas | K17: =IFERROR(VLOOKUP($B8,Hundar!$A:$S,12,FALSE),"Saknas") -> Saknas
D18: Tik säkerhet | E18: =IFERROR(VLOOKUP($B8,Hundar!$A:$S,13,FALSE),"Saknas") -> Saknas | F18: =IFERROR(VLOOKUP($B8,Hundar!$A:$S,14,FALSE),"Saknas") -> Saknas | G18: =IFERROR(VLOOKUP($B8,Hundar!$A:$S,15,FALSE),"Saknas") -> Saknas | H18: =IFERROR(VLOOKUP($B8,Hundar!$A:$S,16,FALSE),"Saknas") -> Saknas | I18: =IFERROR(VLOOKUP($B8,Hundar!$A:$S,17,FALSE),"Saknas") -> Saknas | J18: =IFERROR(VLOOKUP($B8,Hundar!$A:$S,18,FALSE),"Saknas") -> Saknas | K18: =IFERROR(VLOOKUP($B8,Hundar!$A:$S,19,FALSE),"Saknas") -> Saknas
D19: Kull säkerhet | E19: =IFERROR(SQRT(((E5^2)+(E9^2))/4),"Saknas") -> Saknas | F19: =IFERROR(SQRT(((F5^2)+(F9^2))/4),"Saknas") -> Saknas | G19: =IFERROR(SQRT(((G5^2)+(G9^2))/4),"Saknas") -> Saknas | H19: =IFERROR(SQRT(((H5^2)+(H9^2))/4),"Saknas") -> Saknas | I19: =IFERROR(SQRT(((I5^2)+(I9^2))/4),"Saknas") -> Saknas | J19: =IFERROR(SQRT(((J5^2)+(J9^2))/4),"Saknas") -> Saknas | K19: =IFERROR(SQRT(((K5^2)+(K9^2))/4),"Saknas") -> Saknas
